BEGIN:VCALENDAR
VERSION:2.0
PRODID:-//NOWALALA - ECPv6.15.20//NONSGML v1.0//EN
CALSCALE:GREGORIAN
METHOD:PUBLISH
X-WR-CALNAME:NOWALALA
X-ORIGINAL-URL:https://nowalala.de
X-WR-CALDESC:Veranstaltungen für NOWALALA
REFRESH-INTERVAL;VALUE=DURATION:PT1H
X-Robots-Tag:noindex
X-PUBLISHED-TTL:PT1H
BEGIN:VTIMEZONE
TZID:Europe/Berlin
BEGIN:DAYLIGHT
TZOFFSETFROM:+0100
TZOFFSETTO:+0200
TZNAME:CEST
DTSTART:20300331T010000
END:DAYLIGHT
BEGIN:STANDARD
TZOFFSETFROM:+0200
TZOFFSETTO:+0100
TZNAME:CET
DTSTART:20301027T010000
END:STANDARD
BEGIN:DAYLIGHT
TZOFFSETFROM:+0100
TZOFFSETTO:+0200
TZNAME:CEST
DTSTART:20310330T010000
END:DAYLIGHT
BEGIN:STANDARD
TZOFFSETFROM:+0200
TZOFFSETTO:+0100
TZNAME:CET
DTSTART:20311026T010000
END:STANDARD
BEGIN:DAYLIGHT
TZOFFSETFROM:+0100
TZOFFSETTO:+0200
TZNAME:CEST
DTSTART:20320328T010000
END:DAYLIGHT
BEGIN:STANDARD
TZOFFSETFROM:+0200
TZOFFSETTO:+0100
TZNAME:CET
DTSTART:20321031T010000
END:STANDARD
END:VTIMEZONE
BEGIN:VEVENT
DTSTART;TZID=Europe/Berlin:20310123T190000
DTEND;TZID=Europe/Berlin:20310123T200000
DTSTAMP:20260422T005352
CREATED:20250803T110353Z
LAST-MODIFIED:20260206T102130Z
UID:10001994-1926961200-1926964800@nowalala.de
SUMMARY:Lauftreff NOWALALA
DESCRIPTION:Zum Lauftreff treffen wir uns regelmäßig donnerstags um 19:00 Uhr in unserem schönen Laufladen: \n\n\n\n\n\nNOWALALA – Dein Fachgeschäft für Running-Walking-Triathlon\nHeusenstammer Straße 57\n63179 Obertshausen \nStrecke: 8 bis 12 km auf auf festen\, teilweise asphaltierten Waldwegen\, ggf. in verschiedenen Gruppen \nEs ist keine Anmeldung erforderlich! \nAbgesehen vom Lauftreff spielt für uns die Gemeinschaft und auch der Erfahrungsaustausch eine wichtige Rolle. Darüber hinaus seid ihr beim gemeinsamen Laufen mit uns auch immer auf dem neuesten Stand der Läufer- und Triathlon-Szene! \nHabt ihr weitere Fragen? Schreibt uns einfach eine Mail oder besucht uns im NOWALALA! \n\n\n\n\n\n  \n\n\n\n\n\n\n\n\n\n\nGelaufen wird bei jedem Wetter\, außer bei starkem Regen – dazu bitte immer die News auf unserer Homepage checken! \nBitte wettergerechte Kleidung tragen\, evtl. Kopfbedeckung und ein Anti-Mücken-Spray. \nIn der dunklen Jahreszeit Stirnlampe nicht vergessen!
URL:https://nowalala.de/events/lauftreff-nowalala/2031-01-23/
LOCATION:NOWALALA – Dein Fachgeschäft für Running-Walking-Triathlon\, Heusenstammer Straße 57\, Obertshausen\, Hessen\, 63179\, Deutschland
ATTACH;FMTTYPE=image/gif:https://nowalala.de/wordpress/wp-content/uploads/2020/10/laufeinsteiger-1.gif
ORGANIZER;CN="NOWALALA":MAILTO:info@nowalala.de
END:VEVENT
BEGIN:VEVENT
DTSTART;TZID=Europe/Berlin:20310130T190000
DTEND;TZID=Europe/Berlin:20310130T200000
DTSTAMP:20260422T005353
CREATED:20250803T110353Z
LAST-MODIFIED:20260206T102130Z
UID:10002002-1927566000-1927569600@nowalala.de
SUMMARY:Lauftreff NOWALALA
DESCRIPTION:Zum Lauftreff treffen wir uns regelmäßig donnerstags um 19:00 Uhr in unserem schönen Laufladen: \n\n\n\n\n\nNOWALALA – Dein Fachgeschäft für Running-Walking-Triathlon\nHeusenstammer Straße 57\n63179 Obertshausen \nStrecke: 8 bis 12 km auf auf festen\, teilweise asphaltierten Waldwegen\, ggf. in verschiedenen Gruppen \nEs ist keine Anmeldung erforderlich! \nAbgesehen vom Lauftreff spielt für uns die Gemeinschaft und auch der Erfahrungsaustausch eine wichtige Rolle. Darüber hinaus seid ihr beim gemeinsamen Laufen mit uns auch immer auf dem neuesten Stand der Läufer- und Triathlon-Szene! \nHabt ihr weitere Fragen? Schreibt uns einfach eine Mail oder besucht uns im NOWALALA! \n\n\n\n\n\n  \n\n\n\n\n\n\n\n\n\n\nGelaufen wird bei jedem Wetter\, außer bei starkem Regen – dazu bitte immer die News auf unserer Homepage checken! \nBitte wettergerechte Kleidung tragen\, evtl. Kopfbedeckung und ein Anti-Mücken-Spray. \nIn der dunklen Jahreszeit Stirnlampe nicht vergessen!
URL:https://nowalala.de/events/lauftreff-nowalala/2031-01-30/
LOCATION:NOWALALA – Dein Fachgeschäft für Running-Walking-Triathlon\, Heusenstammer Straße 57\, Obertshausen\, Hessen\, 63179\, Deutschland
ATTACH;FMTTYPE=image/gif:https://nowalala.de/wordpress/wp-content/uploads/2020/10/laufeinsteiger-1.gif
ORGANIZER;CN="NOWALALA":MAILTO:info@nowalala.de
END:VEVENT
BEGIN:VEVENT
DTSTART;TZID=Europe/Berlin:20310206T190000
DTEND;TZID=Europe/Berlin:20310206T200000
DTSTAMP:20260422T005353
CREATED:20250803T110353Z
LAST-MODIFIED:20260206T102130Z
UID:10002007-1928170800-1928174400@nowalala.de
SUMMARY:Lauftreff NOWALALA
DESCRIPTION:Zum Lauftreff treffen wir uns regelmäßig donnerstags um 19:00 Uhr in unserem schönen Laufladen: \n\n\n\n\n\nNOWALALA – Dein Fachgeschäft für Running-Walking-Triathlon\nHeusenstammer Straße 57\n63179 Obertshausen \nStrecke: 8 bis 12 km auf auf festen\, teilweise asphaltierten Waldwegen\, ggf. in verschiedenen Gruppen \nEs ist keine Anmeldung erforderlich! \nAbgesehen vom Lauftreff spielt für uns die Gemeinschaft und auch der Erfahrungsaustausch eine wichtige Rolle. Darüber hinaus seid ihr beim gemeinsamen Laufen mit uns auch immer auf dem neuesten Stand der Läufer- und Triathlon-Szene! \nHabt ihr weitere Fragen? Schreibt uns einfach eine Mail oder besucht uns im NOWALALA! \n\n\n\n\n\n  \n\n\n\n\n\n\n\n\n\n\nGelaufen wird bei jedem Wetter\, außer bei starkem Regen – dazu bitte immer die News auf unserer Homepage checken! \nBitte wettergerechte Kleidung tragen\, evtl. Kopfbedeckung und ein Anti-Mücken-Spray. \nIn der dunklen Jahreszeit Stirnlampe nicht vergessen!
URL:https://nowalala.de/events/lauftreff-nowalala/2031-02-06/
LOCATION:NOWALALA – Dein Fachgeschäft für Running-Walking-Triathlon\, Heusenstammer Straße 57\, Obertshausen\, Hessen\, 63179\, Deutschland
ATTACH;FMTTYPE=image/gif:https://nowalala.de/wordpress/wp-content/uploads/2020/10/laufeinsteiger-1.gif
ORGANIZER;CN="NOWALALA":MAILTO:info@nowalala.de
END:VEVENT
BEGIN:VEVENT
DTSTART;TZID=Europe/Berlin:20310213T190000
DTEND;TZID=Europe/Berlin:20310213T200000
DTSTAMP:20260422T005353
CREATED:20250803T110353Z
LAST-MODIFIED:20260206T102130Z
UID:10002008-1928775600-1928779200@nowalala.de
SUMMARY:Lauftreff NOWALALA
DESCRIPTION:Zum Lauftreff treffen wir uns regelmäßig donnerstags um 19:00 Uhr in unserem schönen Laufladen: \n\n\n\n\n\nNOWALALA – Dein Fachgeschäft für Running-Walking-Triathlon\nHeusenstammer Straße 57\n63179 Obertshausen \nStrecke: 8 bis 12 km auf auf festen\, teilweise asphaltierten Waldwegen\, ggf. in verschiedenen Gruppen \nEs ist keine Anmeldung erforderlich! \nAbgesehen vom Lauftreff spielt für uns die Gemeinschaft und auch der Erfahrungsaustausch eine wichtige Rolle. Darüber hinaus seid ihr beim gemeinsamen Laufen mit uns auch immer auf dem neuesten Stand der Läufer- und Triathlon-Szene! \nHabt ihr weitere Fragen? Schreibt uns einfach eine Mail oder besucht uns im NOWALALA! \n\n\n\n\n\n  \n\n\n\n\n\n\n\n\n\n\nGelaufen wird bei jedem Wetter\, außer bei starkem Regen – dazu bitte immer die News auf unserer Homepage checken! \nBitte wettergerechte Kleidung tragen\, evtl. Kopfbedeckung und ein Anti-Mücken-Spray. \nIn der dunklen Jahreszeit Stirnlampe nicht vergessen!
URL:https://nowalala.de/events/lauftreff-nowalala/2031-02-13/
LOCATION:NOWALALA – Dein Fachgeschäft für Running-Walking-Triathlon\, Heusenstammer Straße 57\, Obertshausen\, Hessen\, 63179\, Deutschland
ATTACH;FMTTYPE=image/gif:https://nowalala.de/wordpress/wp-content/uploads/2020/10/laufeinsteiger-1.gif
ORGANIZER;CN="NOWALALA":MAILTO:info@nowalala.de
END:VEVENT
BEGIN:VEVENT
DTSTART;TZID=Europe/Berlin:20310220T190000
DTEND;TZID=Europe/Berlin:20310220T200000
DTSTAMP:20260422T005353
CREATED:20250803T110353Z
LAST-MODIFIED:20260206T102130Z
UID:10002013-1929380400-1929384000@nowalala.de
SUMMARY:Lauftreff NOWALALA
DESCRIPTION:Zum Lauftreff treffen wir uns regelmäßig donnerstags um 19:00 Uhr in unserem schönen Laufladen: \n\n\n\n\n\nNOWALALA – Dein Fachgeschäft für Running-Walking-Triathlon\nHeusenstammer Straße 57\n63179 Obertshausen \nStrecke: 8 bis 12 km auf auf festen\, teilweise asphaltierten Waldwegen\, ggf. in verschiedenen Gruppen \nEs ist keine Anmeldung erforderlich! \nAbgesehen vom Lauftreff spielt für uns die Gemeinschaft und auch der Erfahrungsaustausch eine wichtige Rolle. Darüber hinaus seid ihr beim gemeinsamen Laufen mit uns auch immer auf dem neuesten Stand der Läufer- und Triathlon-Szene! \nHabt ihr weitere Fragen? Schreibt uns einfach eine Mail oder besucht uns im NOWALALA! \n\n\n\n\n\n  \n\n\n\n\n\n\n\n\n\n\nGelaufen wird bei jedem Wetter\, außer bei starkem Regen – dazu bitte immer die News auf unserer Homepage checken! \nBitte wettergerechte Kleidung tragen\, evtl. Kopfbedeckung und ein Anti-Mücken-Spray. \nIn der dunklen Jahreszeit Stirnlampe nicht vergessen!
URL:https://nowalala.de/events/lauftreff-nowalala/2031-02-20/
LOCATION:NOWALALA – Dein Fachgeschäft für Running-Walking-Triathlon\, Heusenstammer Straße 57\, Obertshausen\, Hessen\, 63179\, Deutschland
ATTACH;FMTTYPE=image/gif:https://nowalala.de/wordpress/wp-content/uploads/2020/10/laufeinsteiger-1.gif
ORGANIZER;CN="NOWALALA":MAILTO:info@nowalala.de
END:VEVENT
BEGIN:VEVENT
DTSTART;TZID=Europe/Berlin:20310227T190000
DTEND;TZID=Europe/Berlin:20310227T200000
DTSTAMP:20260422T005353
CREATED:20250803T110353Z
LAST-MODIFIED:20260206T102130Z
UID:10002014-1929985200-1929988800@nowalala.de
SUMMARY:Lauftreff NOWALALA
DESCRIPTION:Zum Lauftreff treffen wir uns regelmäßig donnerstags um 19:00 Uhr in unserem schönen Laufladen: \n\n\n\n\n\nNOWALALA – Dein Fachgeschäft für Running-Walking-Triathlon\nHeusenstammer Straße 57\n63179 Obertshausen \nStrecke: 8 bis 12 km auf auf festen\, teilweise asphaltierten Waldwegen\, ggf. in verschiedenen Gruppen \nEs ist keine Anmeldung erforderlich! \nAbgesehen vom Lauftreff spielt für uns die Gemeinschaft und auch der Erfahrungsaustausch eine wichtige Rolle. Darüber hinaus seid ihr beim gemeinsamen Laufen mit uns auch immer auf dem neuesten Stand der Läufer- und Triathlon-Szene! \nHabt ihr weitere Fragen? Schreibt uns einfach eine Mail oder besucht uns im NOWALALA! \n\n\n\n\n\n  \n\n\n\n\n\n\n\n\n\n\nGelaufen wird bei jedem Wetter\, außer bei starkem Regen – dazu bitte immer die News auf unserer Homepage checken! \nBitte wettergerechte Kleidung tragen\, evtl. Kopfbedeckung und ein Anti-Mücken-Spray. \nIn der dunklen Jahreszeit Stirnlampe nicht vergessen!
URL:https://nowalala.de/events/lauftreff-nowalala/2031-02-27/
LOCATION:NOWALALA – Dein Fachgeschäft für Running-Walking-Triathlon\, Heusenstammer Straße 57\, Obertshausen\, Hessen\, 63179\, Deutschland
ATTACH;FMTTYPE=image/gif:https://nowalala.de/wordpress/wp-content/uploads/2020/10/laufeinsteiger-1.gif
ORGANIZER;CN="NOWALALA":MAILTO:info@nowalala.de
END:VEVENT
BEGIN:VEVENT
DTSTART;TZID=Europe/Berlin:20310306T190000
DTEND;TZID=Europe/Berlin:20310306T200000
DTSTAMP:20260422T005353
CREATED:20250803T110353Z
LAST-MODIFIED:20260206T102130Z
UID:10002015-1930590000-1930593600@nowalala.de
SUMMARY:Lauftreff NOWALALA
DESCRIPTION:Zum Lauftreff treffen wir uns regelmäßig donnerstags um 19:00 Uhr in unserem schönen Laufladen: \n\n\n\n\n\nNOWALALA – Dein Fachgeschäft für Running-Walking-Triathlon\nHeusenstammer Straße 57\n63179 Obertshausen \nStrecke: 8 bis 12 km auf auf festen\, teilweise asphaltierten Waldwegen\, ggf. in verschiedenen Gruppen \nEs ist keine Anmeldung erforderlich! \nAbgesehen vom Lauftreff spielt für uns die Gemeinschaft und auch der Erfahrungsaustausch eine wichtige Rolle. Darüber hinaus seid ihr beim gemeinsamen Laufen mit uns auch immer auf dem neuesten Stand der Läufer- und Triathlon-Szene! \nHabt ihr weitere Fragen? Schreibt uns einfach eine Mail oder besucht uns im NOWALALA! \n\n\n\n\n\n  \n\n\n\n\n\n\n\n\n\n\nGelaufen wird bei jedem Wetter\, außer bei starkem Regen – dazu bitte immer die News auf unserer Homepage checken! \nBitte wettergerechte Kleidung tragen\, evtl. Kopfbedeckung und ein Anti-Mücken-Spray. \nIn der dunklen Jahreszeit Stirnlampe nicht vergessen!
URL:https://nowalala.de/events/lauftreff-nowalala/2031-03-06/
LOCATION:NOWALALA – Dein Fachgeschäft für Running-Walking-Triathlon\, Heusenstammer Straße 57\, Obertshausen\, Hessen\, 63179\, Deutschland
ATTACH;FMTTYPE=image/gif:https://nowalala.de/wordpress/wp-content/uploads/2020/10/laufeinsteiger-1.gif
ORGANIZER;CN="NOWALALA":MAILTO:info@nowalala.de
END:VEVENT
BEGIN:VEVENT
DTSTART;TZID=Europe/Berlin:20310313T190000
DTEND;TZID=Europe/Berlin:20310313T200000
DTSTAMP:20260422T005353
CREATED:20250803T110353Z
LAST-MODIFIED:20260206T102130Z
UID:10002016-1931194800-1931198400@nowalala.de
SUMMARY:Lauftreff NOWALALA
DESCRIPTION:Zum Lauftreff treffen wir uns regelmäßig donnerstags um 19:00 Uhr in unserem schönen Laufladen: \n\n\n\n\n\nNOWALALA – Dein Fachgeschäft für Running-Walking-Triathlon\nHeusenstammer Straße 57\n63179 Obertshausen \nStrecke: 8 bis 12 km auf auf festen\, teilweise asphaltierten Waldwegen\, ggf. in verschiedenen Gruppen \nEs ist keine Anmeldung erforderlich! \nAbgesehen vom Lauftreff spielt für uns die Gemeinschaft und auch der Erfahrungsaustausch eine wichtige Rolle. Darüber hinaus seid ihr beim gemeinsamen Laufen mit uns auch immer auf dem neuesten Stand der Läufer- und Triathlon-Szene! \nHabt ihr weitere Fragen? Schreibt uns einfach eine Mail oder besucht uns im NOWALALA! \n\n\n\n\n\n  \n\n\n\n\n\n\n\n\n\n\nGelaufen wird bei jedem Wetter\, außer bei starkem Regen – dazu bitte immer die News auf unserer Homepage checken! \nBitte wettergerechte Kleidung tragen\, evtl. Kopfbedeckung und ein Anti-Mücken-Spray. \nIn der dunklen Jahreszeit Stirnlampe nicht vergessen!
URL:https://nowalala.de/events/lauftreff-nowalala/2031-03-13/
LOCATION:NOWALALA – Dein Fachgeschäft für Running-Walking-Triathlon\, Heusenstammer Straße 57\, Obertshausen\, Hessen\, 63179\, Deutschland
ATTACH;FMTTYPE=image/gif:https://nowalala.de/wordpress/wp-content/uploads/2020/10/laufeinsteiger-1.gif
ORGANIZER;CN="NOWALALA":MAILTO:info@nowalala.de
END:VEVENT
BEGIN:VEVENT
DTSTART;TZID=Europe/Berlin:20310320T190000
DTEND;TZID=Europe/Berlin:20310320T200000
DTSTAMP:20260422T005353
CREATED:20250803T110353Z
LAST-MODIFIED:20260206T102130Z
UID:10002017-1931799600-1931803200@nowalala.de
SUMMARY:Lauftreff NOWALALA
DESCRIPTION:Zum Lauftreff treffen wir uns regelmäßig donnerstags um 19:00 Uhr in unserem schönen Laufladen: \n\n\n\n\n\nNOWALALA – Dein Fachgeschäft für Running-Walking-Triathlon\nHeusenstammer Straße 57\n63179 Obertshausen \nStrecke: 8 bis 12 km auf auf festen\, teilweise asphaltierten Waldwegen\, ggf. in verschiedenen Gruppen \nEs ist keine Anmeldung erforderlich! \nAbgesehen vom Lauftreff spielt für uns die Gemeinschaft und auch der Erfahrungsaustausch eine wichtige Rolle. Darüber hinaus seid ihr beim gemeinsamen Laufen mit uns auch immer auf dem neuesten Stand der Läufer- und Triathlon-Szene! \nHabt ihr weitere Fragen? Schreibt uns einfach eine Mail oder besucht uns im NOWALALA! \n\n\n\n\n\n  \n\n\n\n\n\n\n\n\n\n\nGelaufen wird bei jedem Wetter\, außer bei starkem Regen – dazu bitte immer die News auf unserer Homepage checken! \nBitte wettergerechte Kleidung tragen\, evtl. Kopfbedeckung und ein Anti-Mücken-Spray. \nIn der dunklen Jahreszeit Stirnlampe nicht vergessen!
URL:https://nowalala.de/events/lauftreff-nowalala/2031-03-20/
LOCATION:NOWALALA – Dein Fachgeschäft für Running-Walking-Triathlon\, Heusenstammer Straße 57\, Obertshausen\, Hessen\, 63179\, Deutschland
ATTACH;FMTTYPE=image/gif:https://nowalala.de/wordpress/wp-content/uploads/2020/10/laufeinsteiger-1.gif
ORGANIZER;CN="NOWALALA":MAILTO:info@nowalala.de
END:VEVENT
BEGIN:VEVENT
DTSTART;TZID=Europe/Berlin:20310327T190000
DTEND;TZID=Europe/Berlin:20310327T200000
DTSTAMP:20260422T005353
CREATED:20250803T110353Z
LAST-MODIFIED:20260206T102130Z
UID:10002018-1932404400-1932408000@nowalala.de
SUMMARY:Lauftreff NOWALALA
DESCRIPTION:Zum Lauftreff treffen wir uns regelmäßig donnerstags um 19:00 Uhr in unserem schönen Laufladen: \n\n\n\n\n\nNOWALALA – Dein Fachgeschäft für Running-Walking-Triathlon\nHeusenstammer Straße 57\n63179 Obertshausen \nStrecke: 8 bis 12 km auf auf festen\, teilweise asphaltierten Waldwegen\, ggf. in verschiedenen Gruppen \nEs ist keine Anmeldung erforderlich! \nAbgesehen vom Lauftreff spielt für uns die Gemeinschaft und auch der Erfahrungsaustausch eine wichtige Rolle. Darüber hinaus seid ihr beim gemeinsamen Laufen mit uns auch immer auf dem neuesten Stand der Läufer- und Triathlon-Szene! \nHabt ihr weitere Fragen? Schreibt uns einfach eine Mail oder besucht uns im NOWALALA! \n\n\n\n\n\n  \n\n\n\n\n\n\n\n\n\n\nGelaufen wird bei jedem Wetter\, außer bei starkem Regen – dazu bitte immer die News auf unserer Homepage checken! \nBitte wettergerechte Kleidung tragen\, evtl. Kopfbedeckung und ein Anti-Mücken-Spray. \nIn der dunklen Jahreszeit Stirnlampe nicht vergessen!
URL:https://nowalala.de/events/lauftreff-nowalala/2031-03-27/
LOCATION:NOWALALA – Dein Fachgeschäft für Running-Walking-Triathlon\, Heusenstammer Straße 57\, Obertshausen\, Hessen\, 63179\, Deutschland
ATTACH;FMTTYPE=image/gif:https://nowalala.de/wordpress/wp-content/uploads/2020/10/laufeinsteiger-1.gif
ORGANIZER;CN="NOWALALA":MAILTO:info@nowalala.de
END:VEVENT
BEGIN:VEVENT
DTSTART;TZID=Europe/Berlin:20310403T190000
DTEND;TZID=Europe/Berlin:20310403T200000
DTSTAMP:20260422T005353
CREATED:20250803T110353Z
LAST-MODIFIED:20260206T102130Z
UID:10002097-1933009200-1933012800@nowalala.de
SUMMARY:Lauftreff NOWALALA
DESCRIPTION:Zum Lauftreff treffen wir uns regelmäßig donnerstags um 19:00 Uhr in unserem schönen Laufladen: \n\n\n\n\n\nNOWALALA – Dein Fachgeschäft für Running-Walking-Triathlon\nHeusenstammer Straße 57\n63179 Obertshausen \nStrecke: 8 bis 12 km auf auf festen\, teilweise asphaltierten Waldwegen\, ggf. in verschiedenen Gruppen \nEs ist keine Anmeldung erforderlich! \nAbgesehen vom Lauftreff spielt für uns die Gemeinschaft und auch der Erfahrungsaustausch eine wichtige Rolle. Darüber hinaus seid ihr beim gemeinsamen Laufen mit uns auch immer auf dem neuesten Stand der Läufer- und Triathlon-Szene! \nHabt ihr weitere Fragen? Schreibt uns einfach eine Mail oder besucht uns im NOWALALA! \n\n\n\n\n\n  \n\n\n\n\n\n\n\n\n\n\nGelaufen wird bei jedem Wetter\, außer bei starkem Regen – dazu bitte immer die News auf unserer Homepage checken! \nBitte wettergerechte Kleidung tragen\, evtl. Kopfbedeckung und ein Anti-Mücken-Spray. \nIn der dunklen Jahreszeit Stirnlampe nicht vergessen!
URL:https://nowalala.de/events/lauftreff-nowalala/2031-04-03/
LOCATION:NOWALALA – Dein Fachgeschäft für Running-Walking-Triathlon\, Heusenstammer Straße 57\, Obertshausen\, Hessen\, 63179\, Deutschland
ATTACH;FMTTYPE=image/gif:https://nowalala.de/wordpress/wp-content/uploads/2020/10/laufeinsteiger-1.gif
ORGANIZER;CN="NOWALALA":MAILTO:info@nowalala.de
END:VEVENT
BEGIN:VEVENT
DTSTART;TZID=Europe/Berlin:20310410T190000
DTEND;TZID=Europe/Berlin:20310410T200000
DTSTAMP:20260422T005353
CREATED:20250803T110353Z
LAST-MODIFIED:20260206T102130Z
UID:10002099-1933614000-1933617600@nowalala.de
SUMMARY:Lauftreff NOWALALA
DESCRIPTION:Zum Lauftreff treffen wir uns regelmäßig donnerstags um 19:00 Uhr in unserem schönen Laufladen: \n\n\n\n\n\nNOWALALA – Dein Fachgeschäft für Running-Walking-Triathlon\nHeusenstammer Straße 57\n63179 Obertshausen \nStrecke: 8 bis 12 km auf auf festen\, teilweise asphaltierten Waldwegen\, ggf. in verschiedenen Gruppen \nEs ist keine Anmeldung erforderlich! \nAbgesehen vom Lauftreff spielt für uns die Gemeinschaft und auch der Erfahrungsaustausch eine wichtige Rolle. Darüber hinaus seid ihr beim gemeinsamen Laufen mit uns auch immer auf dem neuesten Stand der Läufer- und Triathlon-Szene! \nHabt ihr weitere Fragen? Schreibt uns einfach eine Mail oder besucht uns im NOWALALA! \n\n\n\n\n\n  \n\n\n\n\n\n\n\n\n\n\nGelaufen wird bei jedem Wetter\, außer bei starkem Regen – dazu bitte immer die News auf unserer Homepage checken! \nBitte wettergerechte Kleidung tragen\, evtl. Kopfbedeckung und ein Anti-Mücken-Spray. \nIn der dunklen Jahreszeit Stirnlampe nicht vergessen!
URL:https://nowalala.de/events/lauftreff-nowalala/2031-04-10/
LOCATION:NOWALALA – Dein Fachgeschäft für Running-Walking-Triathlon\, Heusenstammer Straße 57\, Obertshausen\, Hessen\, 63179\, Deutschland
ATTACH;FMTTYPE=image/gif:https://nowalala.de/wordpress/wp-content/uploads/2020/10/laufeinsteiger-1.gif
ORGANIZER;CN="NOWALALA":MAILTO:info@nowalala.de
END:VEVENT
END:VCALENDAR