BEGIN:VCALENDAR
VERSION:2.0
PRODID:-//NOWALALA - ECPv6.15.20//NONSGML v1.0//EN
CALSCALE:GREGORIAN
METHOD:PUBLISH
X-WR-CALNAME:NOWALALA
X-ORIGINAL-URL:https://nowalala.de
X-WR-CALDESC:Veranstaltungen für NOWALALA
REFRESH-INTERVAL;VALUE=DURATION:PT1H
X-Robots-Tag:noindex
X-PUBLISHED-TTL:PT1H
BEGIN:VTIMEZONE
TZID:Europe/Berlin
BEGIN:DAYLIGHT
TZOFFSETFROM:+0100
TZOFFSETTO:+0200
TZNAME:CEST
DTSTART:20250330T010000
END:DAYLIGHT
BEGIN:STANDARD
TZOFFSETFROM:+0200
TZOFFSETTO:+0100
TZNAME:CET
DTSTART:20251026T010000
END:STANDARD
BEGIN:DAYLIGHT
TZOFFSETFROM:+0100
TZOFFSETTO:+0200
TZNAME:CEST
DTSTART:20260329T010000
END:DAYLIGHT
BEGIN:STANDARD
TZOFFSETFROM:+0200
TZOFFSETTO:+0100
TZNAME:CET
DTSTART:20261025T010000
END:STANDARD
BEGIN:DAYLIGHT
TZOFFSETFROM:+0100
TZOFFSETTO:+0200
TZNAME:CEST
DTSTART:20270328T010000
END:DAYLIGHT
BEGIN:STANDARD
TZOFFSETFROM:+0200
TZOFFSETTO:+0100
TZNAME:CET
DTSTART:20271031T010000
END:STANDARD
END:VTIMEZONE
BEGIN:VEVENT
DTSTART;TZID=Europe/Berlin:20260416T190000
DTEND;TZID=Europe/Berlin:20260416T200000
DTSTAMP:20260420T110927
CREATED:20250803T110353Z
LAST-MODIFIED:20260206T102130Z
UID:10001725-1776366000-1776369600@nowalala.de
SUMMARY:Lauftreff NOWALALA
DESCRIPTION:Zum Lauftreff treffen wir uns regelmäßig donnerstags um 19:00 Uhr in unserem schönen Laufladen: \n\n\n\n\n\nNOWALALA – Dein Fachgeschäft für Running-Walking-Triathlon\nHeusenstammer Straße 57\n63179 Obertshausen \nStrecke: 8 bis 12 km auf auf festen\, teilweise asphaltierten Waldwegen\, ggf. in verschiedenen Gruppen \nEs ist keine Anmeldung erforderlich! \nAbgesehen vom Lauftreff spielt für uns die Gemeinschaft und auch der Erfahrungsaustausch eine wichtige Rolle. Darüber hinaus seid ihr beim gemeinsamen Laufen mit uns auch immer auf dem neuesten Stand der Läufer- und Triathlon-Szene! \nHabt ihr weitere Fragen? Schreibt uns einfach eine Mail oder besucht uns im NOWALALA! \n\n\n\n\n\n  \n\n\n\n\n\n\n\n\n\n\nGelaufen wird bei jedem Wetter\, außer bei starkem Regen – dazu bitte immer die News auf unserer Homepage checken! \nBitte wettergerechte Kleidung tragen\, evtl. Kopfbedeckung und ein Anti-Mücken-Spray. \nIn der dunklen Jahreszeit Stirnlampe nicht vergessen!
URL:https://nowalala.de/events/lauftreff-nowalala/2026-04-16/
LOCATION:NOWALALA – Dein Fachgeschäft für Running-Walking-Triathlon\, Heusenstammer Straße 57\, Obertshausen\, Hessen\, 63179\, Deutschland
ATTACH;FMTTYPE=image/gif:https://nowalala.de/wordpress/wp-content/uploads/2020/10/laufeinsteiger-1.gif
ORGANIZER;CN="NOWALALA":MAILTO:info@nowalala.de
END:VEVENT
BEGIN:VEVENT
DTSTART;TZID=Europe/Berlin:20260413T183000
DTEND;TZID=Europe/Berlin:20260413T194500
DTSTAMP:20260420T110927
CREATED:20231004T093519Z
LAST-MODIFIED:20260404T110900Z
UID:10002009-1776105000-1776109500@nowalala.de
SUMMARY:Faszientraining Schwerpunkt Füße/Wade
DESCRIPTION:Faszientraining mit dem Schwerpunkt Füße/Wade \n25\,- € / Person (60 Minuten) \nWeitere Informationen und Anmeldung \n!!! Bitte einen gebuchten Termin spätestens 24 Stunden vorher absagen !!!
URL:https://nowalala.de/events/faszientraing-mit-schwerpunkt-fuesse/2026-04-13/
LOCATION:NOWALALA – Dein Fachgeschäft für Running-Walking-Triathlon\, Heusenstammer Straße 57\, Obertshausen\, Hessen\, 63179\, Deutschland
CATEGORIES:Faszientraining
ATTACH;FMTTYPE=image/jpeg:https://nowalala.de/wordpress/wp-content/uploads/2023/03/Silke_faszienkl.jpg
END:VEVENT
BEGIN:VEVENT
DTSTART;TZID=Europe/Berlin:20260409T190000
DTEND;TZID=Europe/Berlin:20260409T200000
DTSTAMP:20260420T110927
CREATED:20250803T110353Z
LAST-MODIFIED:20260206T102130Z
UID:10001724-1775761200-1775764800@nowalala.de
SUMMARY:Lauftreff NOWALALA
DESCRIPTION:Zum Lauftreff treffen wir uns regelmäßig donnerstags um 19:00 Uhr in unserem schönen Laufladen: \n\n\n\n\n\nNOWALALA – Dein Fachgeschäft für Running-Walking-Triathlon\nHeusenstammer Straße 57\n63179 Obertshausen \nStrecke: 8 bis 12 km auf auf festen\, teilweise asphaltierten Waldwegen\, ggf. in verschiedenen Gruppen \nEs ist keine Anmeldung erforderlich! \nAbgesehen vom Lauftreff spielt für uns die Gemeinschaft und auch der Erfahrungsaustausch eine wichtige Rolle. Darüber hinaus seid ihr beim gemeinsamen Laufen mit uns auch immer auf dem neuesten Stand der Läufer- und Triathlon-Szene! \nHabt ihr weitere Fragen? Schreibt uns einfach eine Mail oder besucht uns im NOWALALA! \n\n\n\n\n\n  \n\n\n\n\n\n\n\n\n\n\nGelaufen wird bei jedem Wetter\, außer bei starkem Regen – dazu bitte immer die News auf unserer Homepage checken! \nBitte wettergerechte Kleidung tragen\, evtl. Kopfbedeckung und ein Anti-Mücken-Spray. \nIn der dunklen Jahreszeit Stirnlampe nicht vergessen!
URL:https://nowalala.de/events/lauftreff-nowalala/2026-04-09/
LOCATION:NOWALALA – Dein Fachgeschäft für Running-Walking-Triathlon\, Heusenstammer Straße 57\, Obertshausen\, Hessen\, 63179\, Deutschland
ATTACH;FMTTYPE=image/gif:https://nowalala.de/wordpress/wp-content/uploads/2020/10/laufeinsteiger-1.gif
ORGANIZER;CN="NOWALALA":MAILTO:info@nowalala.de
END:VEVENT
BEGIN:VEVENT
DTSTART;TZID=Europe/Berlin:20260402T190000
DTEND;TZID=Europe/Berlin:20260402T200000
DTSTAMP:20260420T110927
CREATED:20250803T110353Z
LAST-MODIFIED:20260206T102130Z
UID:10001723-1775156400-1775160000@nowalala.de
SUMMARY:Lauftreff NOWALALA
DESCRIPTION:Zum Lauftreff treffen wir uns regelmäßig donnerstags um 19:00 Uhr in unserem schönen Laufladen: \n\n\n\n\n\nNOWALALA – Dein Fachgeschäft für Running-Walking-Triathlon\nHeusenstammer Straße 57\n63179 Obertshausen \nStrecke: 8 bis 12 km auf auf festen\, teilweise asphaltierten Waldwegen\, ggf. in verschiedenen Gruppen \nEs ist keine Anmeldung erforderlich! \nAbgesehen vom Lauftreff spielt für uns die Gemeinschaft und auch der Erfahrungsaustausch eine wichtige Rolle. Darüber hinaus seid ihr beim gemeinsamen Laufen mit uns auch immer auf dem neuesten Stand der Läufer- und Triathlon-Szene! \nHabt ihr weitere Fragen? Schreibt uns einfach eine Mail oder besucht uns im NOWALALA! \n\n\n\n\n\n  \n\n\n\n\n\n\n\n\n\n\nGelaufen wird bei jedem Wetter\, außer bei starkem Regen – dazu bitte immer die News auf unserer Homepage checken! \nBitte wettergerechte Kleidung tragen\, evtl. Kopfbedeckung und ein Anti-Mücken-Spray. \nIn der dunklen Jahreszeit Stirnlampe nicht vergessen!
URL:https://nowalala.de/events/lauftreff-nowalala/2026-04-02/
LOCATION:NOWALALA – Dein Fachgeschäft für Running-Walking-Triathlon\, Heusenstammer Straße 57\, Obertshausen\, Hessen\, 63179\, Deutschland
ATTACH;FMTTYPE=image/gif:https://nowalala.de/wordpress/wp-content/uploads/2020/10/laufeinsteiger-1.gif
ORGANIZER;CN="NOWALALA":MAILTO:info@nowalala.de
END:VEVENT
BEGIN:VEVENT
DTSTART;TZID=Europe/Berlin:20260326T190000
DTEND;TZID=Europe/Berlin:20260326T200000
DTSTAMP:20260420T110927
CREATED:20250803T110353Z
LAST-MODIFIED:20260206T102130Z
UID:10001722-1774551600-1774555200@nowalala.de
SUMMARY:Lauftreff NOWALALA
DESCRIPTION:Zum Lauftreff treffen wir uns regelmäßig donnerstags um 19:00 Uhr in unserem schönen Laufladen: \n\n\n\n\n\nNOWALALA – Dein Fachgeschäft für Running-Walking-Triathlon\nHeusenstammer Straße 57\n63179 Obertshausen \nStrecke: 8 bis 12 km auf auf festen\, teilweise asphaltierten Waldwegen\, ggf. in verschiedenen Gruppen \nEs ist keine Anmeldung erforderlich! \nAbgesehen vom Lauftreff spielt für uns die Gemeinschaft und auch der Erfahrungsaustausch eine wichtige Rolle. Darüber hinaus seid ihr beim gemeinsamen Laufen mit uns auch immer auf dem neuesten Stand der Läufer- und Triathlon-Szene! \nHabt ihr weitere Fragen? Schreibt uns einfach eine Mail oder besucht uns im NOWALALA! \n\n\n\n\n\n  \n\n\n\n\n\n\n\n\n\n\nGelaufen wird bei jedem Wetter\, außer bei starkem Regen – dazu bitte immer die News auf unserer Homepage checken! \nBitte wettergerechte Kleidung tragen\, evtl. Kopfbedeckung und ein Anti-Mücken-Spray. \nIn der dunklen Jahreszeit Stirnlampe nicht vergessen!
URL:https://nowalala.de/events/lauftreff-nowalala/2026-03-26/
LOCATION:NOWALALA – Dein Fachgeschäft für Running-Walking-Triathlon\, Heusenstammer Straße 57\, Obertshausen\, Hessen\, 63179\, Deutschland
ATTACH;FMTTYPE=image/gif:https://nowalala.de/wordpress/wp-content/uploads/2020/10/laufeinsteiger-1.gif
ORGANIZER;CN="NOWALALA":MAILTO:info@nowalala.de
END:VEVENT
BEGIN:VEVENT
DTSTART;TZID=Europe/Berlin:20260319T150000
DTEND;TZID=Europe/Berlin:20260319T200000
DTSTAMP:20260420T110927
CREATED:20260206T101926Z
LAST-MODIFIED:20260226T082741Z
UID:10002006-1773932400-1773950400@nowalala.de
SUMMARY:RUN BETTER.RECOVER FASTER
DESCRIPTION:Komm vorbei\, teste\, sei begeistert und\nfeiere mit uns 20 Jahre NOWALALA! \nTrue Motion will Laufverletzungen\nverhindern und dein bestes Lauferlebnis\nschaffen! Erfahre im Kurzvortrag\, wie –\nund erlebe es beim gemeinsamen\nTestlauf. \nAktiviere deine Muskulatur und fördere\ndie Durchblutung – mit gezielter\nKompression. Teste die langen\nKompressionssocken\n„Made in Germany“ von CEP \n Website und Anmeldung\n 
URL:https://nowalala.de/events/lauscxhuhtest-mit-truemotion-und-cep/
LOCATION:NOWALALA – Dein Fachgeschäft für Running-Walking-Triathlon\, Heusenstammer Straße 57\, Obertshausen\, Hessen\, 63179\, Deutschland
ATTACH;FMTTYPE=image/jpeg:https://nowalala.de/wordpress/wp-content/uploads/2026/02/Testevent19032026Kopf2.jpg
ORGANIZER;CN="NOWALALA":MAILTO:info@nowalala.de
END:VEVENT
BEGIN:VEVENT
DTSTART;TZID=Europe/Berlin:20260312T190000
DTEND;TZID=Europe/Berlin:20260312T200000
DTSTAMP:20260420T110927
CREATED:20250803T110353Z
LAST-MODIFIED:20260206T102130Z
UID:10001720-1773342000-1773345600@nowalala.de
SUMMARY:Lauftreff NOWALALA
DESCRIPTION:Zum Lauftreff treffen wir uns regelmäßig donnerstags um 19:00 Uhr in unserem schönen Laufladen: \n\n\n\n\n\nNOWALALA – Dein Fachgeschäft für Running-Walking-Triathlon\nHeusenstammer Straße 57\n63179 Obertshausen \nStrecke: 8 bis 12 km auf auf festen\, teilweise asphaltierten Waldwegen\, ggf. in verschiedenen Gruppen \nEs ist keine Anmeldung erforderlich! \nAbgesehen vom Lauftreff spielt für uns die Gemeinschaft und auch der Erfahrungsaustausch eine wichtige Rolle. Darüber hinaus seid ihr beim gemeinsamen Laufen mit uns auch immer auf dem neuesten Stand der Läufer- und Triathlon-Szene! \nHabt ihr weitere Fragen? Schreibt uns einfach eine Mail oder besucht uns im NOWALALA! \n\n\n\n\n\n  \n\n\n\n\n\n\n\n\n\n\nGelaufen wird bei jedem Wetter\, außer bei starkem Regen – dazu bitte immer die News auf unserer Homepage checken! \nBitte wettergerechte Kleidung tragen\, evtl. Kopfbedeckung und ein Anti-Mücken-Spray. \nIn der dunklen Jahreszeit Stirnlampe nicht vergessen!
URL:https://nowalala.de/events/lauftreff-nowalala/2026-03-12/
LOCATION:NOWALALA – Dein Fachgeschäft für Running-Walking-Triathlon\, Heusenstammer Straße 57\, Obertshausen\, Hessen\, 63179\, Deutschland
ATTACH;FMTTYPE=image/gif:https://nowalala.de/wordpress/wp-content/uploads/2020/10/laufeinsteiger-1.gif
ORGANIZER;CN="NOWALALA":MAILTO:info@nowalala.de
END:VEVENT
BEGIN:VEVENT
DTSTART;TZID=Europe/Berlin:20260305T190000
DTEND;TZID=Europe/Berlin:20260305T200000
DTSTAMP:20260420T110927
CREATED:20250803T110353Z
LAST-MODIFIED:20260206T102130Z
UID:10001719-1772737200-1772740800@nowalala.de
SUMMARY:Lauftreff NOWALALA
DESCRIPTION:Zum Lauftreff treffen wir uns regelmäßig donnerstags um 19:00 Uhr in unserem schönen Laufladen: \n\n\n\n\n\nNOWALALA – Dein Fachgeschäft für Running-Walking-Triathlon\nHeusenstammer Straße 57\n63179 Obertshausen \nStrecke: 8 bis 12 km auf auf festen\, teilweise asphaltierten Waldwegen\, ggf. in verschiedenen Gruppen \nEs ist keine Anmeldung erforderlich! \nAbgesehen vom Lauftreff spielt für uns die Gemeinschaft und auch der Erfahrungsaustausch eine wichtige Rolle. Darüber hinaus seid ihr beim gemeinsamen Laufen mit uns auch immer auf dem neuesten Stand der Läufer- und Triathlon-Szene! \nHabt ihr weitere Fragen? Schreibt uns einfach eine Mail oder besucht uns im NOWALALA! \n\n\n\n\n\n  \n\n\n\n\n\n\n\n\n\n\nGelaufen wird bei jedem Wetter\, außer bei starkem Regen – dazu bitte immer die News auf unserer Homepage checken! \nBitte wettergerechte Kleidung tragen\, evtl. Kopfbedeckung und ein Anti-Mücken-Spray. \nIn der dunklen Jahreszeit Stirnlampe nicht vergessen!
URL:https://nowalala.de/events/lauftreff-nowalala/2026-03-05/
LOCATION:NOWALALA – Dein Fachgeschäft für Running-Walking-Triathlon\, Heusenstammer Straße 57\, Obertshausen\, Hessen\, 63179\, Deutschland
ATTACH;FMTTYPE=image/gif:https://nowalala.de/wordpress/wp-content/uploads/2020/10/laufeinsteiger-1.gif
ORGANIZER;CN="NOWALALA":MAILTO:info@nowalala.de
END:VEVENT
BEGIN:VEVENT
DTSTART;TZID=Europe/Berlin:20260302T183000
DTEND;TZID=Europe/Berlin:20260302T194500
DTSTAMP:20260420T110927
CREATED:20231004T093519Z
LAST-MODIFIED:20260404T110900Z
UID:10001997-1772476200-1772480700@nowalala.de
SUMMARY:Faszientraining Schwerpunkt Füße/Wade
DESCRIPTION:Faszientraining mit dem Schwerpunkt Füße/Wade \n25\,- € / Person (60 Minuten) \nWeitere Informationen und Anmeldung \n!!! Bitte einen gebuchten Termin spätestens 24 Stunden vorher absagen !!!
URL:https://nowalala.de/events/faszientraing-mit-schwerpunkt-fuesse/2026-03-02/
LOCATION:NOWALALA – Dein Fachgeschäft für Running-Walking-Triathlon\, Heusenstammer Straße 57\, Obertshausen\, Hessen\, 63179\, Deutschland
CATEGORIES:Faszientraining
ATTACH;FMTTYPE=image/jpeg:https://nowalala.de/wordpress/wp-content/uploads/2023/03/Silke_faszienkl.jpg
END:VEVENT
BEGIN:VEVENT
DTSTART;TZID=Europe/Berlin:20260226T190000
DTEND;TZID=Europe/Berlin:20260226T200000
DTSTAMP:20260420T110927
CREATED:20250803T110353Z
LAST-MODIFIED:20260206T102130Z
UID:10001718-1772132400-1772136000@nowalala.de
SUMMARY:Lauftreff NOWALALA
DESCRIPTION:Zum Lauftreff treffen wir uns regelmäßig donnerstags um 19:00 Uhr in unserem schönen Laufladen: \n\n\n\n\n\nNOWALALA – Dein Fachgeschäft für Running-Walking-Triathlon\nHeusenstammer Straße 57\n63179 Obertshausen \nStrecke: 8 bis 12 km auf auf festen\, teilweise asphaltierten Waldwegen\, ggf. in verschiedenen Gruppen \nEs ist keine Anmeldung erforderlich! \nAbgesehen vom Lauftreff spielt für uns die Gemeinschaft und auch der Erfahrungsaustausch eine wichtige Rolle. Darüber hinaus seid ihr beim gemeinsamen Laufen mit uns auch immer auf dem neuesten Stand der Läufer- und Triathlon-Szene! \nHabt ihr weitere Fragen? Schreibt uns einfach eine Mail oder besucht uns im NOWALALA! \n\n\n\n\n\n  \n\n\n\n\n\n\n\n\n\n\nGelaufen wird bei jedem Wetter\, außer bei starkem Regen – dazu bitte immer die News auf unserer Homepage checken! \nBitte wettergerechte Kleidung tragen\, evtl. Kopfbedeckung und ein Anti-Mücken-Spray. \nIn der dunklen Jahreszeit Stirnlampe nicht vergessen!
URL:https://nowalala.de/events/lauftreff-nowalala/2026-02-26/
LOCATION:NOWALALA – Dein Fachgeschäft für Running-Walking-Triathlon\, Heusenstammer Straße 57\, Obertshausen\, Hessen\, 63179\, Deutschland
ATTACH;FMTTYPE=image/gif:https://nowalala.de/wordpress/wp-content/uploads/2020/10/laufeinsteiger-1.gif
ORGANIZER;CN="NOWALALA":MAILTO:info@nowalala.de
END:VEVENT
BEGIN:VEVENT
DTSTART;TZID=Europe/Berlin:20260219T190000
DTEND;TZID=Europe/Berlin:20260219T200000
DTSTAMP:20260420T110927
CREATED:20250803T110353Z
LAST-MODIFIED:20260206T102130Z
UID:10001717-1771527600-1771531200@nowalala.de
SUMMARY:Lauftreff NOWALALA
DESCRIPTION:Zum Lauftreff treffen wir uns regelmäßig donnerstags um 19:00 Uhr in unserem schönen Laufladen: \n\n\n\n\n\nNOWALALA – Dein Fachgeschäft für Running-Walking-Triathlon\nHeusenstammer Straße 57\n63179 Obertshausen \nStrecke: 8 bis 12 km auf auf festen\, teilweise asphaltierten Waldwegen\, ggf. in verschiedenen Gruppen \nEs ist keine Anmeldung erforderlich! \nAbgesehen vom Lauftreff spielt für uns die Gemeinschaft und auch der Erfahrungsaustausch eine wichtige Rolle. Darüber hinaus seid ihr beim gemeinsamen Laufen mit uns auch immer auf dem neuesten Stand der Läufer- und Triathlon-Szene! \nHabt ihr weitere Fragen? Schreibt uns einfach eine Mail oder besucht uns im NOWALALA! \n\n\n\n\n\n  \n\n\n\n\n\n\n\n\n\n\nGelaufen wird bei jedem Wetter\, außer bei starkem Regen – dazu bitte immer die News auf unserer Homepage checken! \nBitte wettergerechte Kleidung tragen\, evtl. Kopfbedeckung und ein Anti-Mücken-Spray. \nIn der dunklen Jahreszeit Stirnlampe nicht vergessen!
URL:https://nowalala.de/events/lauftreff-nowalala/2026-02-19/
LOCATION:NOWALALA – Dein Fachgeschäft für Running-Walking-Triathlon\, Heusenstammer Straße 57\, Obertshausen\, Hessen\, 63179\, Deutschland
ATTACH;FMTTYPE=image/gif:https://nowalala.de/wordpress/wp-content/uploads/2020/10/laufeinsteiger-1.gif
ORGANIZER;CN="NOWALALA":MAILTO:info@nowalala.de
END:VEVENT
BEGIN:VEVENT
DTSTART;TZID=Europe/Berlin:20260212T190000
DTEND;TZID=Europe/Berlin:20260212T200000
DTSTAMP:20260420T110927
CREATED:20250803T110353Z
LAST-MODIFIED:20260206T102130Z
UID:10001716-1770922800-1770926400@nowalala.de
SUMMARY:Lauftreff NOWALALA
DESCRIPTION:Zum Lauftreff treffen wir uns regelmäßig donnerstags um 19:00 Uhr in unserem schönen Laufladen: \n\n\n\n\n\nNOWALALA – Dein Fachgeschäft für Running-Walking-Triathlon\nHeusenstammer Straße 57\n63179 Obertshausen \nStrecke: 8 bis 12 km auf auf festen\, teilweise asphaltierten Waldwegen\, ggf. in verschiedenen Gruppen \nEs ist keine Anmeldung erforderlich! \nAbgesehen vom Lauftreff spielt für uns die Gemeinschaft und auch der Erfahrungsaustausch eine wichtige Rolle. Darüber hinaus seid ihr beim gemeinsamen Laufen mit uns auch immer auf dem neuesten Stand der Läufer- und Triathlon-Szene! \nHabt ihr weitere Fragen? Schreibt uns einfach eine Mail oder besucht uns im NOWALALA! \n\n\n\n\n\n  \n\n\n\n\n\n\n\n\n\n\nGelaufen wird bei jedem Wetter\, außer bei starkem Regen – dazu bitte immer die News auf unserer Homepage checken! \nBitte wettergerechte Kleidung tragen\, evtl. Kopfbedeckung und ein Anti-Mücken-Spray. \nIn der dunklen Jahreszeit Stirnlampe nicht vergessen!
URL:https://nowalala.de/events/lauftreff-nowalala/2026-02-12/
LOCATION:NOWALALA – Dein Fachgeschäft für Running-Walking-Triathlon\, Heusenstammer Straße 57\, Obertshausen\, Hessen\, 63179\, Deutschland
ATTACH;FMTTYPE=image/gif:https://nowalala.de/wordpress/wp-content/uploads/2020/10/laufeinsteiger-1.gif
ORGANIZER;CN="NOWALALA":MAILTO:info@nowalala.de
END:VEVENT
BEGIN:VEVENT
DTSTART;TZID=Europe/Berlin:20260205T190000
DTEND;TZID=Europe/Berlin:20260205T200000
DTSTAMP:20260420T110927
CREATED:20250803T110353Z
LAST-MODIFIED:20260206T102130Z
UID:10001715-1770318000-1770321600@nowalala.de
SUMMARY:Lauftreff NOWALALA
DESCRIPTION:Zum Lauftreff treffen wir uns regelmäßig donnerstags um 19:00 Uhr in unserem schönen Laufladen: \n\n\n\n\n\nNOWALALA – Dein Fachgeschäft für Running-Walking-Triathlon\nHeusenstammer Straße 57\n63179 Obertshausen \nStrecke: 8 bis 12 km auf auf festen\, teilweise asphaltierten Waldwegen\, ggf. in verschiedenen Gruppen \nEs ist keine Anmeldung erforderlich! \nAbgesehen vom Lauftreff spielt für uns die Gemeinschaft und auch der Erfahrungsaustausch eine wichtige Rolle. Darüber hinaus seid ihr beim gemeinsamen Laufen mit uns auch immer auf dem neuesten Stand der Läufer- und Triathlon-Szene! \nHabt ihr weitere Fragen? Schreibt uns einfach eine Mail oder besucht uns im NOWALALA! \n\n\n\n\n\n  \n\n\n\n\n\n\n\n\n\n\nGelaufen wird bei jedem Wetter\, außer bei starkem Regen – dazu bitte immer die News auf unserer Homepage checken! \nBitte wettergerechte Kleidung tragen\, evtl. Kopfbedeckung und ein Anti-Mücken-Spray. \nIn der dunklen Jahreszeit Stirnlampe nicht vergessen!
URL:https://nowalala.de/events/lauftreff-nowalala/2026-02-05/
LOCATION:NOWALALA – Dein Fachgeschäft für Running-Walking-Triathlon\, Heusenstammer Straße 57\, Obertshausen\, Hessen\, 63179\, Deutschland
ATTACH;FMTTYPE=image/gif:https://nowalala.de/wordpress/wp-content/uploads/2020/10/laufeinsteiger-1.gif
ORGANIZER;CN="NOWALALA":MAILTO:info@nowalala.de
END:VEVENT
BEGIN:VEVENT
DTSTART;TZID=Europe/Berlin:20260129T190000
DTEND;TZID=Europe/Berlin:20260129T200000
DTSTAMP:20260420T110927
CREATED:20250803T110353Z
LAST-MODIFIED:20260206T102130Z
UID:10001714-1769713200-1769716800@nowalala.de
SUMMARY:Lauftreff NOWALALA
DESCRIPTION:Zum Lauftreff treffen wir uns regelmäßig donnerstags um 19:00 Uhr in unserem schönen Laufladen: \n\n\n\n\n\nNOWALALA – Dein Fachgeschäft für Running-Walking-Triathlon\nHeusenstammer Straße 57\n63179 Obertshausen \nStrecke: 8 bis 12 km auf auf festen\, teilweise asphaltierten Waldwegen\, ggf. in verschiedenen Gruppen \nEs ist keine Anmeldung erforderlich! \nAbgesehen vom Lauftreff spielt für uns die Gemeinschaft und auch der Erfahrungsaustausch eine wichtige Rolle. Darüber hinaus seid ihr beim gemeinsamen Laufen mit uns auch immer auf dem neuesten Stand der Läufer- und Triathlon-Szene! \nHabt ihr weitere Fragen? Schreibt uns einfach eine Mail oder besucht uns im NOWALALA! \n\n\n\n\n\n  \n\n\n\n\n\n\n\n\n\n\nGelaufen wird bei jedem Wetter\, außer bei starkem Regen – dazu bitte immer die News auf unserer Homepage checken! \nBitte wettergerechte Kleidung tragen\, evtl. Kopfbedeckung und ein Anti-Mücken-Spray. \nIn der dunklen Jahreszeit Stirnlampe nicht vergessen!
URL:https://nowalala.de/events/lauftreff-nowalala/2026-01-29/
LOCATION:NOWALALA – Dein Fachgeschäft für Running-Walking-Triathlon\, Heusenstammer Straße 57\, Obertshausen\, Hessen\, 63179\, Deutschland
ATTACH;FMTTYPE=image/gif:https://nowalala.de/wordpress/wp-content/uploads/2020/10/laufeinsteiger-1.gif
ORGANIZER;CN="NOWALALA":MAILTO:info@nowalala.de
END:VEVENT
BEGIN:VEVENT
DTSTART;TZID=Europe/Berlin:20260122T190000
DTEND;TZID=Europe/Berlin:20260122T200000
DTSTAMP:20260420T110927
CREATED:20250803T110353Z
LAST-MODIFIED:20260206T102130Z
UID:10001713-1769108400-1769112000@nowalala.de
SUMMARY:Lauftreff NOWALALA
DESCRIPTION:Zum Lauftreff treffen wir uns regelmäßig donnerstags um 19:00 Uhr in unserem schönen Laufladen: \n\n\n\n\n\nNOWALALA – Dein Fachgeschäft für Running-Walking-Triathlon\nHeusenstammer Straße 57\n63179 Obertshausen \nStrecke: 8 bis 12 km auf auf festen\, teilweise asphaltierten Waldwegen\, ggf. in verschiedenen Gruppen \nEs ist keine Anmeldung erforderlich! \nAbgesehen vom Lauftreff spielt für uns die Gemeinschaft und auch der Erfahrungsaustausch eine wichtige Rolle. Darüber hinaus seid ihr beim gemeinsamen Laufen mit uns auch immer auf dem neuesten Stand der Läufer- und Triathlon-Szene! \nHabt ihr weitere Fragen? Schreibt uns einfach eine Mail oder besucht uns im NOWALALA! \n\n\n\n\n\n  \n\n\n\n\n\n\n\n\n\n\nGelaufen wird bei jedem Wetter\, außer bei starkem Regen – dazu bitte immer die News auf unserer Homepage checken! \nBitte wettergerechte Kleidung tragen\, evtl. Kopfbedeckung und ein Anti-Mücken-Spray. \nIn der dunklen Jahreszeit Stirnlampe nicht vergessen!
URL:https://nowalala.de/events/lauftreff-nowalala/2026-01-22/
LOCATION:NOWALALA – Dein Fachgeschäft für Running-Walking-Triathlon\, Heusenstammer Straße 57\, Obertshausen\, Hessen\, 63179\, Deutschland
ATTACH;FMTTYPE=image/gif:https://nowalala.de/wordpress/wp-content/uploads/2020/10/laufeinsteiger-1.gif
ORGANIZER;CN="NOWALALA":MAILTO:info@nowalala.de
END:VEVENT
END:VCALENDAR