BEGIN:VCALENDAR
VERSION:2.0
PRODID:-//NOWALALA - ECPv6.15.20//NONSGML v1.0//EN
CALSCALE:GREGORIAN
METHOD:PUBLISH
X-ORIGINAL-URL:https://nowalala.de
X-WR-CALDESC:Veranstaltungen für NOWALALA
REFRESH-INTERVAL;VALUE=DURATION:PT1H
X-Robots-Tag:noindex
X-PUBLISHED-TTL:PT1H
BEGIN:VTIMEZONE
TZID:Europe/Berlin
BEGIN:DAYLIGHT
TZOFFSETFROM:+0100
TZOFFSETTO:+0200
TZNAME:CEST
DTSTART:20250330T010000
END:DAYLIGHT
BEGIN:STANDARD
TZOFFSETFROM:+0200
TZOFFSETTO:+0100
TZNAME:CET
DTSTART:20251026T010000
END:STANDARD
BEGIN:DAYLIGHT
TZOFFSETFROM:+0100
TZOFFSETTO:+0200
TZNAME:CEST
DTSTART:20260329T010000
END:DAYLIGHT
BEGIN:STANDARD
TZOFFSETFROM:+0200
TZOFFSETTO:+0100
TZNAME:CET
DTSTART:20261025T010000
END:STANDARD
BEGIN:DAYLIGHT
TZOFFSETFROM:+0100
TZOFFSETTO:+0200
TZNAME:CEST
DTSTART:20270328T010000
END:DAYLIGHT
BEGIN:STANDARD
TZOFFSETFROM:+0200
TZOFFSETTO:+0100
TZNAME:CET
DTSTART:20271031T010000
END:STANDARD
END:VTIMEZONE
BEGIN:VEVENT
DTSTART;TZID=Europe/Berlin:20260313T140000
DTEND;TZID=Europe/Berlin:20260313T180000
DTSTAMP:20260420T124211
CREATED:20260206T080634Z
LAST-MODIFIED:20260206T101700Z
UID:10002003-1773410400-1773424800@nowalala.de
SUMMARY:Sonderverkauf im Zelt
DESCRIPTION:Anlässlich des Jubiläum „20 Jahre NOWALALA“ \nstartet unser großer Sonderverkauf mit vielen tollen Angeboten. \nEinzlheiten volgen
URL:https://nowalala.de/events/sonderverkauf-im-zelt/2026-03-13/
ATTACH;FMTTYPE=image/jpeg:https://nowalala.de/wordpress/wp-content/uploads/2026/02/20-Jahre-Sonder.jpg
ORGANIZER;CN="NOWALALA":MAILTO:info@nowalala.de
END:VEVENT
END:VCALENDAR